BEGIN:VCALENDAR
VERSION:2.0
PRODID:-//Faculdade de Ciências Farmacêuticas — FCF Unicamp - ECPv6.15.20//NONSGML v1.0//EN
CALSCALE:GREGORIAN
METHOD:PUBLISH
X-WR-CALNAME:Faculdade de Ciências Farmacêuticas — FCF Unicamp
X-ORIGINAL-URL:https://www.fcf.unicamp.br
X-WR-CALDESC:Eventos para Faculdade de Ciências Farmacêuticas — FCF Unicamp
REFRESH-INTERVAL;VALUE=DURATION:PT1H
X-Robots-Tag:noindex
X-PUBLISHED-TTL:PT1H
BEGIN:VTIMEZONE
TZID:America/Sao_Paulo
BEGIN:STANDARD
TZOFFSETFROM:-0300
TZOFFSETTO:-0300
TZNAME:-03
DTSTART:20250101T000000
END:STANDARD
END:VTIMEZONE
BEGIN:VEVENT
DTSTART;TZID=America/Sao_Paulo:20260603T090000
DTEND;TZID=America/Sao_Paulo:20260603T120000
DTSTAMP:20260423T103542
CREATED:20260408T182857Z
LAST-MODIFIED:20260408T192543Z
UID:20916-1780477200-1780488000@www.fcf.unicamp.br
SUMMARY:Exame de Qualificação — Samuel Chagas de Assis
DESCRIPTION:Programa de Pós-Graduação em Ciências Farmacêuticas \nExame de Qualificação de Mestrado \nSamuel Chagas de Assis \nDesenvolvimento de um modelo de aprendizado profundo para predição da interação entre receptores de células T e epítopos \n\nAuditório da FCF \nPresidente\nDr. Marcio Chaim Bajgelman — LNBio / CNPEM \nMembros titulares\nDr. Felippe Mariano Colombari — Ilum / CNPEM\nProf. Dr. Emilio Ashton Vital Brazil — Instituto PUC-Behring de IA \nMembros suplentes\nDr. Ivan Rosa e Silva — LNBio / CNPEM\nProf. Dr. Hugo Verli — CBiot / UFRGS
URL:https://www.fcf.unicamp.br/evento/eq_sca/
LOCATION:Auditório da FCF\, Rua Candido Portinari\, 200\, Campinas\, São Paulo\, 13083-871
CATEGORIES:Eventos,Exames de Qualificação,Mestrado,Pós-Graduação
END:VEVENT
END:VCALENDAR