BEGIN:VCALENDAR
VERSION:2.0
PRODID:-//Faculdade de Ciências Farmacêuticas — FCF Unicamp - ECPv6.15.20//NONSGML v1.0//EN
CALSCALE:GREGORIAN
METHOD:PUBLISH
X-WR-CALNAME:Faculdade de Ciências Farmacêuticas — FCF Unicamp
X-ORIGINAL-URL:https://www.fcf.unicamp.br
X-WR-CALDESC:Eventos para Faculdade de Ciências Farmacêuticas — FCF Unicamp
REFRESH-INTERVAL;VALUE=DURATION:PT1H
X-Robots-Tag:noindex
X-PUBLISHED-TTL:PT1H
BEGIN:VTIMEZONE
TZID:America/Sao_Paulo
BEGIN:STANDARD
TZOFFSETFROM:-0300
TZOFFSETTO:-0300
TZNAME:-03
DTSTART:20240101T000000
END:STANDARD
END:VTIMEZONE
BEGIN:VEVENT
DTSTART;TZID=America/Sao_Paulo:20251003T100000
DTEND;TZID=America/Sao_Paulo:20251003T120000
DTSTAMP:20260424T124603
CREATED:20250909T130847Z
LAST-MODIFIED:20250912T170900Z
UID:19404-1759485600-1759492800@www.fcf.unicamp.br
SUMMARY:Exame de Qualificação — Thairiny Raiany Borges Toti
DESCRIPTION:Programa de Pós-Graduação em Ciências Farmacêuticas\nExame de Qualificação de Mestrado \nThairiny Raiany Borges Toti \nDesenvolvimento de spray nasal com polímero mucoadesivo e extrato rico em canabidiol para liberação nariz-cérebro \nAuditório da FCF \nPresidente\nProfª Drª Karina Cogo Muller — FCF / Unicamp \nMembros titulares\nProfª Drª Ellen Tanus Rangel — UNB\nProf. Dr. Guilherme Carneiro Montes — UERJ \nMembros suplentes\nProf. Dr. José Luiz da Costa — FCF / Unicamp\nProfª Drª Gabriela Trindade de Souza e Silva — FCF / Unicamp
URL:https://www.fcf.unicamp.br/evento/eq_trbt/
LOCATION:São Paulo
CATEGORIES:Exames de Qualificação,Pós-Graduação
END:VEVENT
BEGIN:VEVENT
DTSTART;TZID=America/Sao_Paulo:20251008T103000
DTEND;TZID=America/Sao_Paulo:20251008T120000
DTSTAMP:20260424T124603
CREATED:20250826T181418Z
LAST-MODIFIED:20250826T181418Z
UID:19302-1759919400-1759924800@www.fcf.unicamp.br
SUMMARY:Palestra: "Do Shaker ao Biorreator — Soluções em Bioprocessos"
DESCRIPTION:INSCREVA-SE AQUI
URL:https://www.fcf.unicamp.br/evento/eppendorf/
LOCATION:Sala EB03 (Engenharia Básica)
CATEGORIES:Pós-Graduação
END:VEVENT
BEGIN:VEVENT
DTSTART;VALUE=DATE:20251016
DTEND;VALUE=DATE:20251018
DTSTAMP:20260424T124603
CREATED:20250728T195613Z
LAST-MODIFIED:20250728T195613Z
UID:18810-1760572800-1760745599@www.fcf.unicamp.br
SUMMARY:Semana de Atividades de Pesquisa e Extensão em Cosmetologia — Cuidado Farmacêutico para Saúde da Pele
DESCRIPTION:
URL:https://www.fcf.unicamp.br/evento/semana-de-atividades-de-pesquisa-e-extensao-em-cosmetologia-cuidado-farmaceutico-para-saude-da-pele/
LOCATION:São Paulo
CATEGORIES:Institucional
END:VEVENT
BEGIN:VEVENT
DTSTART;TZID=America/Sao_Paulo:20251022T090000
DTEND;TZID=America/Sao_Paulo:20251022T120000
DTSTAMP:20260424T124603
CREATED:20251001T180827Z
LAST-MODIFIED:20251012T212058Z
UID:19561-1761123600-1761134400@www.fcf.unicamp.br
SUMMARY:Exame de Qualificação — Caroline Correia Ghensev Barberan
DESCRIPTION:Programa de Pós-Graduação em Ciências Farmacêuticas \nExame de Qualificação de Mestrado \nCaroline Correia Ghensev Barberan \nCaracterização molecular de amostras de ctdna no líquor e sangue periférico versus amostras de tumorais para monitoramento dos pacientes com glioblastoma \n\nIntegralmente à distância \nPresidente\nProfª Drª Karina Cogo Müller — FCF / Unicamp \nMembros titulares\nProfª Drª Juliana Mozer Sciani — USF\nProfª Drª Patricia Moriel — FCF / Unicamp \nMembros suplentes\nDrª Fernanda Luisa Basei — FCF / Unicamp\nProf. Dr. Eder de Carvalho Pincinato — FCM / Unicamp \n  \n 
URL:https://www.fcf.unicamp.br/evento/eq_ccgb/
LOCATION:São Paulo
CATEGORIES:Exames de Qualificação,Pós-Graduação
END:VEVENT
END:VCALENDAR