BEGIN:VCALENDAR
VERSION:2.0
PRODID:-//Faculdade de Ciências Farmacêuticas — FCF Unicamp - ECPv6.15.20//NONSGML v1.0//EN
CALSCALE:GREGORIAN
METHOD:PUBLISH
X-WR-CALNAME:Faculdade de Ciências Farmacêuticas — FCF Unicamp
X-ORIGINAL-URL:https://www.fcf.unicamp.br
X-WR-CALDESC:Eventos para Faculdade de Ciências Farmacêuticas — FCF Unicamp
REFRESH-INTERVAL;VALUE=DURATION:PT1H
X-Robots-Tag:noindex
X-PUBLISHED-TTL:PT1H
BEGIN:VTIMEZONE
TZID:America/Sao_Paulo
BEGIN:STANDARD
TZOFFSETFROM:-0300
TZOFFSETTO:-0300
TZNAME:-03
DTSTART:20230101T000000
END:STANDARD
END:VTIMEZONE
BEGIN:VEVENT
DTSTART;TZID=America/Sao_Paulo:20240808T090000
DTEND;TZID=America/Sao_Paulo:20240808T120000
DTSTAMP:20260424T133845
CREATED:20240704T123200Z
LAST-MODIFIED:20240704T123200Z
UID:13611-1723107600-1723118400@www.fcf.unicamp.br
SUMMARY:Exame de Qualificação — Vanessa Gomes Lima
DESCRIPTION:Programa de Pós-Graduação em Ciências Farmacêuticas\nExame de Qualificação de Doutorado \nVanessa Gomes Lima \nSaúde mental e uso de antidepressivos: frequência e farmacovigilância \nAuditório da FCF \nPresidente\nProf. Dr. João Ernesto de Carvalho — FCF / Unicamp \nMembros titulares\nDrª Claudia Garcia Serpa Osorio de Castro — ENSP / Fiocruz\nDrª Silvia Saboia Martins — Department of Epidemiology / Columbia University \nMembros suplentes\nDrª Ana Lucia Tasca Gois Ruiz — FCF / Unicamp\nProfª Drª Muna Muhammad Odeh — FS / UnB\nProf. Dr. Ivan Ricardo Zimmermann — FS / UnB
URL:https://www.fcf.unicamp.br/evento/eq_vgl/
LOCATION:Auditório da FCF\, Rua Candido Portinari\, 200\, Campinas\, São Paulo\, 13083-871
CATEGORIES:Exames de Qualificação,Pós-Graduação
END:VEVENT
BEGIN:VEVENT
DTSTART;TZID=America/Sao_Paulo:20240812T090000
DTEND;TZID=America/Sao_Paulo:20240812T130000
DTSTAMP:20260424T133845
CREATED:20240704T172004Z
LAST-MODIFIED:20240704T172150Z
UID:13622-1723453200-1723467600@www.fcf.unicamp.br
SUMMARY:Defesa de Tese de Doutorado — Carolina Muller Ferreira
DESCRIPTION:Programa de Pós-Graduação em Ciências Farmacêuticas \nCarolina Muller Ferreira \nInsegurança alimentar e deficiência de micronutriente: análise da prevalência nacional e local \nAuditório da FCF \nPresidente\nProfª Drª Taís Freire Galvão — FCF / Unicamp \nMembros titulares\nProfª Drª Carla Cristina Enes — PUC-Campinas\nDrª Mariana del Grossi Moura — Hospital Sírio-Libanês\nDrª Larissa Galastri Baraldi — NEPA / Unicamp\nProfª Drª Maria Angélica Tavares de Medeiros — ISS / Unifesp \nMembros suplentes\nDrª Ana Lucia Tasca Gois Ruiz — FCF / Unicamp\nProfª Drª Jaqueline Lopes Pereira França — FSP / USP\nDrª Izabela Fulone — DCT / MS \nResumo\nIntrodução: O acesso à alimentação saudável em quantidades adequadas é um direito básico e sua privação compromete a saúde\, causando desnutrição e deficiências de micronutrientes como a vitamina A\, principal fator de risco para morbidade e mortalidade na infância e no período reprodutivo. Objetivo: Avaliar a prevalência e os fatores associados à insegurança alimentar em um ambiente local e a prevalência da deficiência de vitamina A entre mulheres em idade fértil em todo o país. Métodos: Um estudo transversal de base populacional foi realizado em 2019 com adultos selecionados por amostragem probabilística em Manaus\, Amazonas. A insegurança alimentar foi mensurada por meio da Escala Brasileira de Medida Domiciliar de Insegurança Alimentar em três níveis: leve\, moderada ou grave. Foram realizadas estatísticas descritivas e calculadas as razões de prevalência (RP) de insegurança alimentar em cada nível com intervalos de confiança (IC) de 95% por meio de regressão logística multinomial ajustada. A revisão sistemática seguiu protocolo registrado (CRD42020171856). Pesquisadores independentes e em pares\, selecionaram estudos recuperados do MEDLINE\, Embase\, Scopus\, LILACS e outras fontes; extraíram os dados e avaliaram a qualidade metodológica usando o checklist do Instituto Joanna Briggs. A prevalência de deficiência de vitamina A (retinol <0\,70 µmol/L) e IC95% foram obtidos por meta-análise e a heterogeneidade foi estimada pelo I². Stata 14.2 foi utilizado para todas as análises. Resultados: Dos 2.321 participantes incluídos na pesquisa\, 38\,0% apresentavam insegurança alimentar leve; 14\,3%\, moderado; 15\,7%\, grave. A insegurança alimentar foi maior em mulheres (leve: RP 1\,36; IC95% 1\,09-1\,69; moderada: RP 1\,58; IC95% 1\,17-2\,14; grave: RP 1\,42; IC95% 1\,05-1\,93)\, classe social C (leve: RP 1\,60; IC95% 1\,19-2\,15; moderado: RP 3\,46; IC95% 1\,93-6\,19; grave: RP 2\,68; IC95% 1\,43-5\,05)\, classe social D/E (leve: RP 1\,64; IC95% 1\,16-2\,32; moderado: RP 5\,50; IC95% 2\,97-10\,19; grave: RP 6\,58; IC95% 3\,43-12\,63)\, presença de sintomas depressivos (leve: RP 1\,50; IC95% 1\,11-2\,01; moderado: RP 2\,78; IC95% 1\,95-3\,95; grave: RP 2\,49\, IC95% 1\,77-3\,49) e que sofreram eventos ameaçadores no ano anterior (leve: RP 1\,88; IC95% 1\,50-2\,35; moderado: RP 3\,99; IC95% 2\,69-5\,90; grave: RP 4\,45; IC95% 2\,97-6\,66). Dos 3.610 registros recuperados nas buscas\, 32 estudos foram incluídos na revisão e avaliaram 12.577 mulheres entre 1965 e 2017\, a maioria em maternidades. O quadro da amostra e método de amostragem foram os itens com menor pontuação na qualidade metodológica. A deficiência ocorreu em 13\,1% (IC95%: 9\,4-17\,2%; I²=97%) das mulheres\, sendo maior entre gestantes (16%; IC95%: 5\,6-30\,6%; I²=98%) do que em não gestantes (12%; IC95%: 8\,4-16\,8%; I²=96%). A prevalência aumentou conforme a década\, de 9% (IC95%: 1\,9-21\,6%; I²=98%) até 1990\, 11% (IC95%: 7\,9-14\,2%; I²= 86%) na década de 2000 e 18% (IC95%: 8\,7-29\,0%; I²=98%) na década de 2010. Conclusão: A insegurança alimentar foi maior entre as mulheres pobres\, na presença de sintomas depressivos e eventos ameaçadores. Mais de uma em cada 10 mulheres brasileiras em idade fértil tem deficiência de vitamina A\, maior em mulheres grávidas e aumentando ao longo das décadas.
URL:https://www.fcf.unicamp.br/evento/defesa_cmf/
LOCATION:Auditório da FCF\, Rua Candido Portinari\, 200\, Campinas\, São Paulo\, 13083-871
CATEGORIES:Defesas,Doutorado,Pós-Graduação
END:VEVENT
BEGIN:VEVENT
DTSTART;TZID=America/Sao_Paulo:20240812T150000
DTEND;TZID=America/Sao_Paulo:20240812T163000
DTSTAMP:20260424T133845
CREATED:20240731T191709Z
LAST-MODIFIED:20240731T191807Z
UID:14174-1723474800-1723480200@www.fcf.unicamp.br
SUMMARY:Sessão Solene de Posse do Diretor da Faculdade de Ciências Farmacêuticas
DESCRIPTION:
URL:https://www.fcf.unicamp.br/evento/posse-diretor-fcf/
LOCATION:Salão Nobre — FE / Unicamp\, Avenida Bertrand Russell\, 801\, Campinas\, São Paulo\, 13083-865\, Brasil
CATEGORIES:Institucional
END:VEVENT
BEGIN:VEVENT
DTSTART;TZID=America/Sao_Paulo:20240814T140000
DTEND;TZID=America/Sao_Paulo:20240814T170000
DTSTAMP:20260424T133845
CREATED:20240718T202404Z
LAST-MODIFIED:20240718T202404Z
UID:13957-1723644000-1723654800@www.fcf.unicamp.br
SUMMARY:Defesa de Dissertação de Mestrado — Mayra Gabriella Biccigo
DESCRIPTION:Programa de Pós-Graduação em Ciências Farmacêuticas \nMayra Gabriella Biccigo \nCaracterização físico-química\, química e potencial bioativo do resíduo de produção de Fragaria x ananassa Duch. orgânica \nAuditório da FCF \nPresidente\nProfª Drª Mary Ann Foglio — FCF / Unicamp \nMembros titulares\nProfª Drª Giovanna Barbarini Longato — USF\nProfª Drª Gislaine Ricci Leonardi — FCF / Unicamp \nMembros suplentes\nProfª Drª Alexandra Christine Helena Frankland Sawaya — FCF / Unicamp\nProf. Dr. Mauricio Ariel Rostagno — FCA / Unicamp\nProfª Drª Klicia Araujo Sampaio — FEA / Unicamp \nResumo\nOs produtos naturais são uma rica fonte de compostos bioativos com potencial para tratamento e prevenção de diversas doenças. A cultura da Fragaria x ananassa Duch. (morangueiro) têm crescido muito nos últimos anos\, despertando um grande interesse econômico em seu cultivo. O pseudofruto\, conhecido como morango\, possui uma composição rica em polifenóis\, compostos conhecidos por sua ação antioxidante\, dentre outros benefícios à saúde. No entanto\, o processo produtivo do morango gera grande volume de resíduos\, que contêm\, principalmente\, frutos não comercializáveis e folhas. Este material é uma interessante fonte de metabólitos bioativos\, que pode ser economicamente explorado por setores\, como o alimentício\, o farmacêutico e o cosmético\, aumentando seu valor agregado e reduzindo o descarte. A proposta deste trabalho foi caracterizar quimicamente o resíduo de produção do morango\, avaliar seu potencial antimicrobiano e seu efeito na citotoxicidade celular. Foram produzidos extratos hidroalcóolicos do fruto maduro e partes verdes e três diferentes modos de extração foram realizados para o resíduo (blend 1\, blend 2 e blend 3). As análises fitoquímicas de fenólicos totais\, flanonoides\, DPPH (2\,2-difenil-1-picrilhidrazil) e análise de poder redutor sobre o ferro (FRAP) foram realizadas. Linhagens tumorais e não tumorais foram utilizadas para os testes de atividade proliferativa in vitro e teste de migração celular (linhagem HaCaT). A atividade antimicrobiana foi testada em cepas de Candida albicans (90028 e 562)\, Staphylococcus aureus (33591 e 29213)\, Staphylococcus epidermidis (00197) e Streptococcus pyogenes (8668) utilizando o protocolo de concentração inibitória mínima (MIC). Os teores de ácido ascórbico e Pelargonidina 3-Glicosídeo foram avaliados por HPLC/UV-VIS. A análise do perfil metabólico por LC-MS foi realizada para os extratos dos blends\, folha e fruto\, buscando uma caracterização geral. Os testes colorimétricos demonstraram que as folhas e os resíduos apresentaram o maior teor de compostos fenólicos e flavonoides\, e consequentemente\, maior atividade antioxidante. Os extratos apresentaram baixa atividade citotóxica frente às linhagens tumorais e não tumorais avaliadas\, mesmo na maior concentração testada (150 µg/mL). Os extratos do fruto maduro e folhas não interferiram na migração celular da linhagem HaCaT. Observou-ses atividade antimicrobiana promissora contra as cepas de C. albicans (90028 e 562)\, conseguindo atingir o MIC na concentração de 111\,3 µg/mL para os extratos dos resíduos. Os demais extratos não foram efetivos para a inibição total dos microrganismos testados\, apresentando inibição parcial entre 20 e 60%. As análises por HPLC dos extratos do fruto maduro\, folhas e resíduos mostrou que o fruto maduro e o blend 1 foram os extratos que apresentaram os maiores teores de ácido ascórbico\, com valores de 31\,9 e 25\,65 mg/100 g de amostra fresca\, respectivamente. O teor de Pelargonidina 3-Glicosídeo foi quantificado no fruto maduro\, que apresentou um valor de 6\,77 mg/L. A análise por LC-MS apontou 554 compostos diferenciais\, dos quais 301 foram provisoriamente identificados. Os resultados encontrados demonstram que o resíduo proveniente do processo de produção do morango possui compostos ativos com atividade antioxidante\, antimicrobiana e baixa citotoxidade in vitro\, com potencial para utilização em diferentes setores industriais\, minimizando seu descarte contribuindo para a sua inserção na economia circular.
URL:https://www.fcf.unicamp.br/evento/defesa_mgb/
LOCATION:Auditório da FCF\, Rua Candido Portinari\, 200\, Campinas\, São Paulo\, 13083-871
CATEGORIES:Defesas,Mestrado,Pós-Graduação
END:VEVENT
BEGIN:VEVENT
DTSTART;TZID=America/Sao_Paulo:20240814T140000
DTEND;TZID=America/Sao_Paulo:20240814T170000
DTSTAMP:20260424T133845
CREATED:20240718T204033Z
LAST-MODIFIED:20240718T235852Z
UID:13961-1723644000-1723654800@www.fcf.unicamp.br
SUMMARY:Exame de Qualificação — Xisto Antônio de Oliveira Neto
DESCRIPTION:Programa de Pós-Graduação em Ciências Farmacêuticas\nExame de Qualificação de Doutorado \nXisto Antônio de Oliveira Neto \nDesign\, síntese e avaliação biológica de inibidores da ceramidase ácida como possíveis ferramentas no tratamento do câncer \nAuditório “Daniel Hogan” \nPresidente\nProfª Drª Catarina Raposo Dias Carneiro — FCF / Unicamp \nMembros titulares\nDr. Luciano Porto Kagami — Neurogram\nDrª Marjorie Christine Paule Bruder — LNBio / CNPEM \nMembros suplentes\nProf. Dr. Jörg Kobarg — FCF / Unicamp\nDr. Marcus Alexandre Finzi Corat — CEMIB / Unicamp\nProfª Drª Daisy Machado — USF
URL:https://www.fcf.unicamp.br/evento/eq_xaon/
LOCATION:Auditório “Daniel Hogan” – Prédio Eng\, Básica
CATEGORIES:Exames de Qualificação,Pós-Graduação
END:VEVENT
BEGIN:VEVENT
DTSTART;TZID=America/Sao_Paulo:20240816T140000
DTEND;TZID=America/Sao_Paulo:20240816T180000
DTSTAMP:20260424T133845
CREATED:20240718T155509Z
LAST-MODIFIED:20240718T155509Z
UID:13953-1723816800-1723831200@www.fcf.unicamp.br
SUMMARY:Defesa de Tese de Doutorado — Dayanna Isabel Araque Gelves
DESCRIPTION:Programa de Pós-Graduação em Ciências Farmacêuticas \nDayanna Isabel Araque Gelves \nDiversidade metabólica e busca de substâncias bioativas em plantas da subfamília Gomphrenoideae\, Amaranthaceae (plantas in natura e in vitro) e em microrganismos endofíticos​ \nAuditório da FCF \nPresidente\nProf. Dr. Marcos Jose Salvador — IB / Unicamp \nMembros titulares\nDrª Julieta Andrea Silva de Almeida — IAC\nProf. Dr. Marcelo José Pena Ferreira — IB / USP\nProfª Drª Elaine Minatel — IB / Unicamp\nProf. Dr. Sergio de los Santos Villalobos — Instituto Tecnológico de Sonora \nMembros suplentes\nDrª Ana Lucia Tasca Gois Ruiz — FCF / Unicamp\nProf. Dr. Cristiano Soleo de Funari — FCA / Unesp\nProf. Dr. Daniel Rinaldo — FC / Unesp \nResumo \nPlantas e microrganismos são caracterizados como fontes promissoras de uma ampla gama de substâncias biologicamente ativas. Este estudo teve por objetivo analisar a diversidade metabólica em termos de perfil químico e avaliar a atividade biológica em diferentes modelos experimentais in vitro de extratos de plantas in natura e in vitro da subfamília Gomphrenoideae\, família Amaranthaceae\, e dos microrganismos simbiontes cultiváveis (bactérias e fungos) associados á endosfera de suas lâminas foliares para a busca de substâncias bioativas em estudo bioguiado. Foram estudadas as plantas Alternanthera paronychioides A.St.-Hil\, Alternanthera littoralis Beauv. ex Moq e Gomphrena celosioides Mart. \nPara desenvolver este estudo multidisciplinar\, foram utilizadas diversas metodologias com diversas frentes de trabalho integradas. Assim\, foram realizadas análises in sílico de moléculas químicas previamente relatadas nas plantas estudo; coleta de material vegetal; estabelecimento de culturas vegetais in vitro utilizando os princípios da embriogênese somática; isolamento\, identificação presuntiva e conservação de microrganismos endofíticos; extração e sequenciamento de DNA total para análise de comunidades microbianas; fermentação de seis microrganismos endofíticos; estabelecimento de coculturas plantas-microrganismos; obtenção de extratos secos; análise do perfil químico através de UHPLC-UV/DAD-ESI-MS em estudo de desreplicação utilizando compostos químicos padrão previamente isolados; avaliação de atividade biológica antimicrobiana (bactérias e leveduras)\, antiproliferativa em células tumorais (PC3\, SK-MEL-103) e não tumorais (3T3 e HaCat) e antipsoríase (Indução com IMQ). \nA análise dos resultados foi realizada sob diversas perspectivas\, a primeira focada na verificação de alguns dos usos tradicionais das plantas em estudo\, a segunda do ponto de vista da diversidade metabólica presente nos recursos biológicos estudados (plantas e microrganismos)\, a terceira foi voltado para a busca de moléculas de interesse biotecnológico\, o quarto para demonstrar o efeito de fatores bióticos e abióticos no perfil metabólico dos recursos naturais e o quinto para avaliar o uso de culturas in vitro como fonte de moléculas de interesse farmacológico. \nOs resultados experimentais apontam para a presença de diversidade metabólica e a possibilidade de uso da biomassa de plantas in natura e in vitro da subfamília Gomphrenoideae\, Amaranthaceae (A. littoralis\, A. paronychioides e G. celosioides) e de microrganismos simbiontes cultiváveis (bactérias e fungos) associados á endosfera de suas lâminas como fonte de substâncias bioativas. Ressalta-se que a atividade biológica in vitro das plantas estudadas é consistente com os usos tradicionais reportados em literatura. Os extratos obtidos apresentaram resultados promissores em termos de diversidade metabólica\, atividade anti-psoríase\, antioxidante\, citotóxica contra PC3 e antimicrobiana. \nSe evidenciou o efeito da localização geográfica\, época de coleta e genótipo da planta no estabelecimento da comunidade endofítica\, perfil químico e consequentemente atividade biológica. Ressalta-se que todas as plantas apresentaram uma comunidade endofítica variada constituída por pelo menos 18 microrganismos \nPor outro lado\, o presente estudo permite fortalecer a hipótese de que a interação planta-microrganismo modula a produção de substâncias bioativas de ambos os sistemas biológicos\, possibilitando o emprego de tecnologias de co-culturas como uma estratégia para a obtenção de moléculas com potencial biotecnológico e/ou terapêutico.
URL:https://www.fcf.unicamp.br/evento/defesa_diag/
LOCATION:Auditório da FCF\, Rua Candido Portinari\, 200\, Campinas\, São Paulo\, 13083-871
CATEGORIES:Defesas,Doutorado,Pós-Graduação
END:VEVENT
BEGIN:VEVENT
DTSTART;TZID=America/Sao_Paulo:20240817T090000
DTEND;TZID=America/Sao_Paulo:20240817T170000
DTSTAMP:20260424T133845
CREATED:20240421T224421Z
LAST-MODIFIED:20240805T181907Z
UID:12025-1723885200-1723914000@www.fcf.unicamp.br
SUMMARY:Unicamp de Portas Abertas
DESCRIPTION:A Unicamp de Portas Abertas chega à 19ª Edição! \nA Faculdade de Ciências Farmacêuticas preparou uma programação especial. \nAs atividades acontecerão no prédio da Engenharia Básica\, ao lado da Praça da Paz\, onde acontecerá a recepção dos ônibus de visitantes. \nLeia mais: UPA 2024 espera receber mais de 56 mil visitantes \n  \n \n 
URL:https://www.fcf.unicamp.br/evento/upa2024/
LOCATION:Engenharia Básica\, Rua João Pandiá Calógeras 148\, Campinas\, Brasil
CATEGORIES:Graduação,UPA
END:VEVENT
BEGIN:VEVENT
DTSTART;VALUE=DATE:20240826
DTEND;VALUE=DATE:20240831
DTSTAMP:20260424T133845
CREATED:20240819T123603Z
LAST-MODIFIED:20240819T123603Z
UID:14457-1724630400-1725062399@www.fcf.unicamp.br
SUMMARY:XIX Semana Acadêmica de Farmácia
DESCRIPTION:A Semana Acadêmica de Farmácia da Unicamp ocorre desde 2005 e vem crescendo e evoluindo com o passar dos anos\, estando em sua 19a edição neste ano. O evento é organizado por alunos e professores da Faculdade de Ciências Farmacêuticas (FCF)\, sendo voltado para os alunos da área\, com o objetivo de estimular o desenvolvimento profissional\, a partir da apresentação de diversas áreas de atuação do profissional farmacêutico por meio de palestras e workshops\, o desenvolvimento pessoal pelo debate de temas sociais e estímulo ao desenvolvimento do senso crítico\, e a aproximação do aluno com o mercado de trabalho através das visitas técnicas realizadas em diversas indústrias de grande prestígio. \nDesde 2022\, o evento vem sendo realizado de forma híbrida\, contando com eventos presenciais e online\, de forma a trazer convidados diversos e permitir a participação de congressistas de todo o país.  \nEstamos muito animados para proporcionar um evento rico e completo para todos os participantes\, contamos com a sua presença! 🙂 \nLINK DO EVENTO: www.even3.com.br/XIXSAFUnicamp
URL:https://www.fcf.unicamp.br/evento/xix-saf/
LOCATION:São Paulo
END:VEVENT
BEGIN:VEVENT
DTSTART;TZID=America/Sao_Paulo:20240828T130000
DTEND;TZID=America/Sao_Paulo:20240828T160000
DTSTAMP:20260424T133845
CREATED:20240809T164641Z
LAST-MODIFIED:20240809T164923Z
UID:14278-1724850000-1724860800@www.fcf.unicamp.br
SUMMARY:Defesa de Dissertação de Mestrado — Livia Alves dos Reis Moura
DESCRIPTION:Programa de Pós-Graduação em Ciências Farmacêuticas \nLivia Alves dos Reis Moura \nInvestigação do papel de regulação da Nek4 no splicing alternativo em células de câncer de pulmão \nAuditório da FCF \nPresidente\nProf. Dr. Jörg Kobarg — FCF / Unicamp \nMembros titulares\nProfª Drª Letícia Fröhlich Archangelo — FMRP / USP\nDrª Ana Lucia Tasca Gois Ruiz — FCF / Unicamp \nMembros suplentes\nDrª Katlin Brauer Massirer — CBMEG / Unicamp\nProfª Drª Laura de Oliveira Nascimento — FCF / Unicamp\nProfª Drª Patricia Moriel — FCF / Unicamp \nResumo\nNek4 é uma serina/treonina quinase da família das Neks que\, entre outras funções\, participa da regulação do splicing alternativo do mRNA. Ainda não está claro de que forma acontece essa participação\, mas sabe-se que suas duas isoformas interagem com vários fatores de splicing. Em câncer\, o splicing alternativo de genes específicos encontra-se frequentemente alterado\, afetando quase todos os processos biológicos de desenvolvimento e progressão do câncer\, além de desempenhar um papel importante em alguns casos de resistência a quimioterápicos e radiação. Em vários tipos de câncer a Nek4 apresenta expressão alterada\, notavelmente encontra-se superexpressa em câncer de pulmão e cólon. Este projeto tinha por objetivo avaliar se a Nek4 participava da regulação do splicing\, de genes com importância no contexto de câncer de pulmão\, particularmente em resposta a quimioterápicos. Nossos resultados indicam que a Nek4 participa na regulação do splicing alternativo de alguns genes e de alguma forma se relaciona com a expressão gênica de vários genes que se relacionam com o processos malígnos do câncer\, como transição epitélio-mesênquima\, resposta à hipóxia e ao dano\, no sentido de evitar apoptose.
URL:https://www.fcf.unicamp.br/evento/defesa_larm/
LOCATION:Auditório da FCF\, Rua Candido Portinari\, 200\, Campinas\, São Paulo\, 13083-871
CATEGORIES:Defesas,Mestrado,Pós-Graduação
END:VEVENT
BEGIN:VEVENT
DTSTART;TZID=America/Sao_Paulo:20240830T140000
DTEND;TZID=America/Sao_Paulo:20240830T170000
DTSTAMP:20260424T133845
CREATED:20240823T111551Z
LAST-MODIFIED:20240823T111551Z
UID:14576-1725026400-1725037200@www.fcf.unicamp.br
SUMMARY:Exame de Qualificação — Guilherme Augusto Montagner
DESCRIPTION:Programa de Pós-Graduação em Ciências Farmacêuticas\nExame de Qualificação de Mestrado \nGuilherme Augusto Montagner \nDesenvolvimento e validação de metodologia analítica de doseamento e produtos de degradação para comprimidos revestidos de liberação prolongada de mirabegrona \nAuditório da FCF \nPresidente\nProfª Drª Laura de Oliveira Nascimento — FCF / Unicamp \nMembros titulares\nProfª Drª Alexandra Christine Helena Frankland Sawaya — FCF / Unicamp\nProfª Drª Maria Teresa Bertoldo Pacheco— CCQA / ITAL \nMembros suplentes\nDrª Gabriela Trindade de Souza e Silva — FCF / Unicamp\nProf. Dr. Fabio Ferreira Perazzo — ICAQF / Unifesp\nProfª Drª Maria Angélica Sorgini Peterlini — EPE / Unifesp
URL:https://www.fcf.unicamp.br/evento/eq_gam/
LOCATION:Auditório da FCF\, Rua Candido Portinari\, 200\, Campinas\, São Paulo\, 13083-871
CATEGORIES:Exames de Qualificação,Pós-Graduação
END:VEVENT
END:VCALENDAR