BEGIN:VCALENDAR
VERSION:2.0
PRODID:-//Faculdade de Ciências Farmacêuticas — FCF Unicamp - ECPv6.15.20//NONSGML v1.0//EN
CALSCALE:GREGORIAN
METHOD:PUBLISH
X-WR-CALNAME:Faculdade de Ciências Farmacêuticas — FCF Unicamp
X-ORIGINAL-URL:https://www.fcf.unicamp.br
X-WR-CALDESC:Eventos para Faculdade de Ciências Farmacêuticas — FCF Unicamp
REFRESH-INTERVAL;VALUE=DURATION:PT1H
X-Robots-Tag:noindex
X-PUBLISHED-TTL:PT1H
BEGIN:VTIMEZONE
TZID:America/Sao_Paulo
BEGIN:STANDARD
TZOFFSETFROM:-0300
TZOFFSETTO:-0300
TZNAME:-03
DTSTART:20220101T000000
END:STANDARD
END:VTIMEZONE
BEGIN:VEVENT
DTSTART;VALUE=DATE:20230522
DTEND;VALUE=DATE:20230713
DTSTAMP:20260423T034258
CREATED:20230522T143405Z
LAST-MODIFIED:20230706T121345Z
UID:8656-1684713600-1689206399@www.fcf.unicamp.br
SUMMARY:Inscrições para o curso Gliomas: da biologia molecular às abordagens terapêuticas
DESCRIPTION:  \n\n\n\n\n\n\n\n\n\n\nVer essa foto no Instagram\n\n\n\n\n\n\n\n\n\n\n\n\n\n\n\n\n\n\n\n\n\n\n  \nUma publicação compartilhada por FCF Unicamp (@fcfunicamp)
URL:https://www.fcf.unicamp.br/evento/gliomas-inscricoes/
LOCATION:São Paulo
CATEGORIES:Cursos,Extensão
END:VEVENT
BEGIN:VEVENT
DTSTART;TZID=America/Sao_Paulo:20230711T093000
DTEND;TZID=America/Sao_Paulo:20230711T123000
DTSTAMP:20260423T034258
CREATED:20230622T180454Z
LAST-MODIFIED:20230622T180627Z
UID:8977-1689067800-1689078600@www.fcf.unicamp.br
SUMMARY:Defesa de Dissertação de Mestrado — Laura Moretti Aiello
DESCRIPTION:Defesa de Dissertação de Mestrado \nLaura Moretti Aiello \nAvaliação in vivo de formulações tópicas contendo asiaticosídeo no tratamento da morfeia \nLocal: Auditório da FCF | transmissão ao vivo \nPresidente\nProfª Drª Gislaine Ricci Leonardi — FCF / Unicamp \nMembros titulares\nProf. Dr. Paulo Eduardo Neves Ferreira Velho — FCF / Unicamp\nProfª Drª Patrícia Maria Berardo Gonçalves Maia Campos — FCFRP / USP \nMembros suplentes \nProf. Dr. Jörg Kobarg — FCF / Unicamp\nProf. Dr. Marco Andrey Cipriani Frade — FMRP / USP\nProfª Drª Ediléia Bagatin — EPM / Unifesp \nResumo: Introdução: A Esclerodermia Cutânea ou Morfeia é uma doença inflamatória\, autoimune e crônica. As observações clínicas indicam que o asiaticosídeo\, extraído da Centella asiatica\, é um ativo potencial na melhora das lesões de morfeia\, regulando a síntese de colágeno. Os métodos de bioengenharia cutânea podem auxiliar no diagnóstico clínico da doença e no monitoramento do tratamento de forma não invasiva e objetiva. Este estudo tem como objetivo avaliar a influência da aplicação tópica do ativo asiaticosídeo em lesõesde morfeia por meio de técnicas não invasivas de biofísica e imagem da pele. Métodos: Seis diferentes emulsões acrescidas de 1% de asiaticosídeo e seus veículos correspondentes foram desenvolvidos. Após análise de estabilidade preliminar\, selecionou-se uma das emulsões para os testes clínicos. O estudo clínico envolveu a caracterização das lesões por análise clínica e instrumental descritas no Capítulo 1. O comportamento biomecânico da pele medido pela cutometria foi estudado mais detalhadamente no capítulo 2. Também foi realizado estudo da eficácia da aplicação de asiaticosídeo (Capítulo 3) em vinte pacientes. As lesões foram tratadas\, duas vezes por dia\, por 4 meses\, com as formulações sem e com a adição do asiaticosídeo. A eficácia dessas formulações foi avaliada clinicamente por um médico dermatologista\, subjetivamente pelo paciente por meio de questionário e objetivamente por métodos de bioengenharia cutânea e de imagem da pele antes e após 60\, 90 e 120 dias. Resultados e discussão: A emulsão composta pelo agente autoemulsionante C12 – C20 Acid PEG-8 ester foi selecionada para avaliação in vivo em pacientes portadores de morfeia. No estudo clínico de caracterização\, verificou- se alterações significativas superficiais como menor hidratação\, maior perda de água transepidérmica\, maior firmeza e temperatura da pele demonstrando um prejuízo biofísico da pele no processo de esclerose. Pela dermatoscopia\, foram evidenciadas áreas de fibrose\, alterações de vascularização e pigmentação cutânea. Os achados ecográficos com transdutor de 11MHz mostraram importantes alterações de espessura e ecogenicidade no tecido subcutâneo. No estudo de eficácia\, o grau de esclerose reduziu significativamente com uso do asiaticosídeo pela avaliação clínica dermatológica. Esses achados são congruentes com a redução significativa da ecogenicidade do tecido subcutâneo. Nos achados biométricos e dermatoscópicos\, as variações percentuais em todos os parâmetros avaliados foram estatisticamente equivalentes após uso de emulsões com ou sem asiaticosídeo. Os participantes indicaram uma melhora geral dos parâmetros avaliados no questionário nas lesões tratadas com emulsão com e sem asiaticosídeo. Conclusões: Todos os métodos biofísicos e de imagens incluídos no estudo demonstraram ser importantes ferramentas complementares na caracterização e avaliação das lesões de esclerodermia. Embora os achados biométricos apontem um mesmo efeito do veículo e da formulação com asiaticosídeo nas camadas superficiais da lesão pela análise biométrica\, a avaliação clínica dermatológica e os achados ecográficos demonstram uma potencial ação do asiaticosídeo na redução da esclerose da pele. Estudos futuros poderão considerar um maior tamanho amostral para uma análise segmentada das lesões de acordo com subtipo e estágio de evolução da doença e regiões anatômicas\, visando reduzir a variabilidade nas medidas.
URL:https://www.fcf.unicamp.br/evento/defesa_lma/
LOCATION:Auditório da FCF\, Rua Candido Portinari\, 200\, Campinas\, São Paulo\, 13083-871
CATEGORIES:Defesas,Mestrado,Pós-Graduação
END:VEVENT
BEGIN:VEVENT
DTSTART;TZID=America/Sao_Paulo:20230727T140000
DTEND;TZID=America/Sao_Paulo:20230727T190000
DTSTAMP:20260423T034258
CREATED:20230621T135638Z
LAST-MODIFIED:20230621T135807Z
UID:8971-1690466400-1690484400@www.fcf.unicamp.br
SUMMARY:Defesa de Tese de Doutorado — Fábio Cassola
DESCRIPTION:Fábio Cassola \nDesenvolvimento e avaliação da estabilidade de formulações tópicas empregando óleos essenciais para o tratamento da dermatite seborreica \nLocal: Sala de defesa de tese — Comissão de Pós-Graduação do Instituto de Biologia\, Bloco O\, 1º piso | transmissão ao vivo \nPresidente\nProfª Drª Marta Cristina Teixeira Duarte \nMembros titulares\nProfª Drª Cibele Bonacorsi — ICS / UFMT (Sinop)\nProfª Drª Ana Lucia Tasca Gois Ruiz — FCF / Unicamp\nProfª Drª Alessandra Gambero — PUC – Campinas\nProf. Dr. Paulo Cesar Pires Rosa — FCF / Unicamp \nMembros suplentes\nProfª Drª Carmen Lucia Queiroga — CPQBA / Unicamp\nDr. Rafael de Felício — LNBio / CNPEM\nProfª Drª Patrícia Maria Berardo Gonçalves Maia Campos — FCFRP / USP \nResumo: A dermatite seborreica é uma doença inflamatória crônica comum do tecido cutâneo\, caracterizada por reação descamativa e inflamatória em regiões tipicamente colonizadas pela levedura Malassezia furfur. Ainda não existe um tratamento definitivo para esta doença\, pois as opções terapêuticas disponíveis atualmente objetivam a diminuição dos sintomas e de novos estados de remissão da doença. O uso de óleos essenciais (OEs) pode ser uma alternativa natural de tratamento\, visto que estes apresentam diversas propriedades biológicas e medicinais. Deste modo\, o objetivo do presente trabalho foi verificar a atividade antifúngica de OEs frente a M. furfur e desenvolver formulações tópicas para o tratamento da dermatite seborreica. A suscetibilidade da levedura aos OEs foi avaliada pelo método da microdiluição. A partir dos resultados de concentração inibitória mínima obtidos (CIM entre 0\,5–2\,0 mg/mL)\, foram selecionados os OEs de C. martini\, M. × piperita e V. curassavica para compor uma blenda (BOEs)\, que foi avaliada quanto ao possível sinergismo frente a M. furfur. De acordo com os resultados\, a BOEs promoveu efeito sinérgico e apresentou atividade fungicida contra a forma planctônica (CIM = 2\,0 mg/mL) e de biofilme (inibição ≅80%; erradicação ≅30%) da levedura. Quando antimicrobianos sintéticos como anfotericina B\, cloranfenicol\, cetoconazol\, fluconazol e nistatina foram avaliados frente ao biofilme de M. furfur\, os resultados obtidos mostraram que a porcentagem de inibição/erradicação foi maior para o cloranfenicol (80–84%/42–50%)\, seguido de cetoconazol (47–83%/40–49%)\, nistatina (47–60%/32–48%) e anfotericina B (13%). A anfotericina B não teve efeito na erradicação do biofilme\, enquanto o fluconazol não causou mudanças significativas na inibição ou na erradicação do biofilme de M. furfur. Além da propriedade antifúngica\, a BOEs apresentou atividade anti-inflamatória frente ao fator de necrose tumoral alfa (TNF-α) e não induziu à mutagenicidade nem afetou a viabilidade celular das linhagens HaCaT e L929. Em seguida\, foram desenvolvidos um gel\, uma loção e um xampu com incorporação da BOEs. Durante o estudo preliminar de estabilidade\, a loção apresentou separação de fases\, não sendo avaliada quanto à estabilidade acelerada. Para o gel\, os parâmetros avaliados permaneceram inalterados durante todo o estudo. Para o xampu\, os resultados foram semelhantes\, contudo houve um leve escurecimento da amostra acondicionada em câmara climática após 90 dias. A viscosidade do xampu variou de 1000 a 3800 cP\, ficando um pouco abaixo dos valores referentes a produtos comerciais. Quanto aos marcadores da BOEs\, o geraniol\, o mentol e o trans-Cariofileno se mantiveram presentes e sem variações durante todo o estudo\, em ambas as formulações. Finalmente\, o Challenge test demonstrou que a BOEs conferiu propriedades conservantes ao gel e ao xampu\, uma vez que foi ativa contra os micro-organismos de importância em sistemas conservantes de formulações avaliados. Assim\, o presente estudo mostrou que a BOEs foi eficaz contra M. furfur\, principal agente etiológico da dermatite seborreica\, agindo também como conservante nas formulações desenvolvidas\, e que mesmo sem a adição de conservantes sintéticos estas se apresentaram estáveis durante o tempo de estudo.
URL:https://www.fcf.unicamp.br/evento/defesa_fc/
LOCATION:Sala de Defesa de Tese (Comissão de Pós-Graduação do Instituto de Biologia\, Bloco O\, 1º piso)\, Rua Bertrand Russel\, s/n\, Campinas\, Brasil
CATEGORIES:Defesas,Doutorado,Pós-Graduação
END:VEVENT
END:VCALENDAR