BEGIN:VCALENDAR
VERSION:2.0
PRODID:-//Faculdade de Ciências Farmacêuticas — FCF Unicamp - ECPv6.15.20//NONSGML v1.0//EN
CALSCALE:GREGORIAN
METHOD:PUBLISH
X-WR-CALNAME:Faculdade de Ciências Farmacêuticas — FCF Unicamp
X-ORIGINAL-URL:https://www.fcf.unicamp.br
X-WR-CALDESC:Eventos para Faculdade de Ciências Farmacêuticas — FCF Unicamp
REFRESH-INTERVAL;VALUE=DURATION:PT1H
X-Robots-Tag:noindex
X-PUBLISHED-TTL:PT1H
BEGIN:VTIMEZONE
TZID:America/Sao_Paulo
BEGIN:STANDARD
TZOFFSETFROM:-0300
TZOFFSETTO:-0300
TZNAME:-03
DTSTART:20220101T000000
END:STANDARD
END:VTIMEZONE
BEGIN:VEVENT
DTSTART;TZID=America/Sao_Paulo:20230125T093000
DTEND;TZID=America/Sao_Paulo:20230125T120000
DTSTAMP:20260424T070546
CREATED:20221223T121457Z
LAST-MODIFIED:20221223T121457Z
UID:5236-1674639000-1674648000@www.fcf.unicamp.br
SUMMARY:Exame de Qualificação — Laura Moretti Aiello
DESCRIPTION:Exame de Qualificação de Mestrado \nLaura Moretti Aiello \nAvaliação in vivo de uma formulação tópica contendo asiaticosídeo no tratamento da morfeia \nSala de Reuniões da FCF \nPresidente \nProfª Drª Catarina Raposo Dias Carneiro — FCF / Unicamp \nMembros titulares \nProf. Dr. Marlus Chorilli — FCFAr / Unesp\nProfª Drª Renata Ferreira Magalhães — FCM / Unicamp \nMembros suplentes  \nProfª Drª Karina Cogo Müller — FCF / Unicamp\nProfª Drª Paulo Eduardo Neves Ferreira Velho — FCM / Unicamp\nProfª Drª Mary Ann Foglio — FCF / Unicamp
URL:https://www.fcf.unicamp.br/evento/eq_lma/
LOCATION:Sala de Reuniões da FCF\, Rua Candido Portinari 200\, Campinas\, 13083-871\, Brasil
CATEGORIES:Exames de Qualificação,Pós-Graduação
END:VEVENT
END:VCALENDAR