BEGIN:VCALENDAR
VERSION:2.0
PRODID:-//Faculdade de Ciências Farmacêuticas — FCF Unicamp - ECPv6.15.20//NONSGML v1.0//EN
CALSCALE:GREGORIAN
METHOD:PUBLISH
X-WR-CALNAME:Faculdade de Ciências Farmacêuticas — FCF Unicamp
X-ORIGINAL-URL:https://www.fcf.unicamp.br
X-WR-CALDESC:Eventos para Faculdade de Ciências Farmacêuticas — FCF Unicamp
REFRESH-INTERVAL;VALUE=DURATION:PT1H
X-Robots-Tag:noindex
X-PUBLISHED-TTL:PT1H
BEGIN:VTIMEZONE
TZID:America/Sao_Paulo
BEGIN:STANDARD
TZOFFSETFROM:-0300
TZOFFSETTO:-0300
TZNAME:-03
DTSTART:20210101T000000
END:STANDARD
END:VTIMEZONE
BEGIN:VEVENT
DTSTART;TZID=America/Sao_Paulo:20220902T150000
DTEND;TZID=America/Sao_Paulo:20220902T150000
DTSTAMP:20260424T160607
CREATED:20220523T132139Z
LAST-MODIFIED:20240219T175030Z
UID:2184-1662130800-1662130800@www.fcf.unicamp.br
SUMMARY:Colação de Grau — 1º semestre de 2022
DESCRIPTION:Baixe o convite em PDF \n \n 
URL:https://www.fcf.unicamp.br/evento/colacao-1s2022/
LOCATION:Auditório do GGBS\, Praça das Bandeiras\, 45\, Campinas\, São Paulo\, Brasil
CATEGORIES:Colação de Grau
END:VEVENT
BEGIN:VEVENT
DTSTART;VALUE=DATE:20220903
DTEND;VALUE=DATE:20220904
DTSTAMP:20260424T160607
CREATED:20220517T151200Z
LAST-MODIFIED:20220517T151200Z
UID:1909-1662163200-1662249599@www.fcf.unicamp.br
SUMMARY:Dia do Biólogo
DESCRIPTION:
URL:https://www.fcf.unicamp.br/evento/dia-do-biologo/
LOCATION:São Paulo
CATEGORIES:Institucional
ATTACH;FMTTYPE=image/jpeg:https://www.fcf.unicamp.br/wp-content/uploads/2022/05/dia_biologo.jpg
END:VEVENT
BEGIN:VEVENT
DTSTART;TZID=America/Sao_Paulo:20220906T140000
DTEND;TZID=America/Sao_Paulo:20220906T150000
DTSTAMP:20260424T160607
CREATED:20220831T120507Z
LAST-MODIFIED:20220831T120507Z
UID:4022-1662472800-1662476400@www.fcf.unicamp.br
SUMMARY:Seminário: Desenvolvimento de (bio)sensores eletroquímicos visando a aplicação em point-of-care — Prof. Dr. Lauro Kubota
DESCRIPTION:
URL:https://www.fcf.unicamp.br/evento/kubota/
LOCATION:Auditório da FCF\, Rua Candido Portinari\, 200\, Campinas\, São Paulo\, 13083-871
CATEGORIES:Pós-Graduação
END:VEVENT
BEGIN:VEVENT
DTSTART;TZID=America/Sao_Paulo:20220908T140000
DTEND;TZID=America/Sao_Paulo:20220908T160000
DTSTAMP:20260424T160607
CREATED:20220811T182159Z
LAST-MODIFIED:20221027T184222Z
UID:3885-1662645600-1662652800@www.fcf.unicamp.br
SUMMARY:Exame de Qualificação — Louise Idalgo Vasques
DESCRIPTION:Exame de Qualificação de Mestrado \nLouise Idalgo Vasques \nAvaliação da eficácia de formulações cosméticas contendo tetraisopalmitato de ascorbila (VC-IP) associado à eletroestimulação cutânea e a melhora da ecogenicidade dérmica \nSala de Reuniões da FCF \nPresidente \nProfª Drª Karina Cogo Müller — FCF / Unicamp \nMembros titulares \nDrª Camila Nunes Lemos — iNanoCare\nProfª Drª Luciana Sobral Moreira — PUC-Campinas \nMembros suplentes  \nProfª Drª Catarina Raposo Dias Carneiro — FCF / Unicamp\nProf. Dr. Juliano Lemos Bicas — FEA / Unicamp\nProfª Drª Gisele Mara Silva Gonçalves — PUC-Campinas
URL:https://www.fcf.unicamp.br/evento/3885/
LOCATION:Sala de Reuniões da FCF\, Rua Candido Portinari 200\, Campinas\, 13083-871\, Brasil
CATEGORIES:Exames de Qualificação,Pós-Graduação
END:VEVENT
BEGIN:VEVENT
DTSTART;TZID=America/Sao_Paulo:20220920T140000
DTEND;TZID=America/Sao_Paulo:20220920T153000
DTSTAMP:20260424T160607
CREATED:20220914T191615Z
LAST-MODIFIED:20220914T193540Z
UID:4236-1663682400-1663687800@www.fcf.unicamp.br
SUMMARY:Seminário: Indústria farmacêutica: o que esperar? — Drª Edione Canzi
DESCRIPTION:
URL:https://www.fcf.unicamp.br/evento/edione/
LOCATION:Auditório da FCF\, Rua Candido Portinari\, 200\, Campinas\, São Paulo\, 13083-871
CATEGORIES:Pós-Graduação
END:VEVENT
BEGIN:VEVENT
DTSTART;VALUE=DATE:20220925
DTEND;VALUE=DATE:20220926
DTSTAMP:20260424T160607
CREATED:20220517T150855Z
LAST-MODIFIED:20220517T150929Z
UID:1905-1664064000-1664150399@www.fcf.unicamp.br
SUMMARY:Dia Internacional do Farmacêutico
DESCRIPTION:
URL:https://www.fcf.unicamp.br/evento/dia-do-farmaceutico/
LOCATION:São Paulo
CATEGORIES:Institucional
ATTACH;FMTTYPE=image/jpeg:https://www.fcf.unicamp.br/wp-content/uploads/2022/05/dia_famaceutico.jpg
END:VEVENT
BEGIN:VEVENT
DTSTART;TZID=America/Sao_Paulo:20220927T140000
DTEND;TZID=America/Sao_Paulo:20220927T153000
DTSTAMP:20260424T160607
CREATED:20220923T132748Z
LAST-MODIFIED:20220923T134210Z
UID:4430-1664287200-1664292600@www.fcf.unicamp.br
SUMMARY:Seminário: Neks e mitocôndria — funções além do ciclo celular? — Drª Fernanda Basei
DESCRIPTION:
URL:https://www.fcf.unicamp.br/evento/seminario-neks/
LOCATION:Auditório da FCF\, Rua Candido Portinari\, 200\, Campinas\, São Paulo\, 13083-871
CATEGORIES:Pós-Graduação
END:VEVENT
END:VCALENDAR