BEGIN:VCALENDAR
VERSION:2.0
PRODID:-//Faculdade de Ciências Farmacêuticas — FCF Unicamp - ECPv6.15.20//NONSGML v1.0//EN
CALSCALE:GREGORIAN
METHOD:PUBLISH
X-WR-CALNAME:Faculdade de Ciências Farmacêuticas — FCF Unicamp
X-ORIGINAL-URL:https://www.fcf.unicamp.br
X-WR-CALDESC:Eventos para Faculdade de Ciências Farmacêuticas — FCF Unicamp
REFRESH-INTERVAL;VALUE=DURATION:PT1H
X-Robots-Tag:noindex
X-PUBLISHED-TTL:PT1H
BEGIN:VTIMEZONE
TZID:America/Sao_Paulo
BEGIN:STANDARD
TZOFFSETFROM:-0300
TZOFFSETTO:-0300
TZNAME:-03
DTSTART:20210101T000000
END:STANDARD
END:VTIMEZONE
BEGIN:VEVENT
DTSTART;VALUE=DATE:20220618
DTEND;VALUE=DATE:20220619
DTSTAMP:20260422T191300
CREATED:20220517T151344Z
LAST-MODIFIED:20220517T151413Z
UID:1912-1655510400-1655596799@www.fcf.unicamp.br
SUMMARY:Dia do Químico
DESCRIPTION:
URL:https://www.fcf.unicamp.br/evento/dia-do-quimico/
LOCATION:São Paulo
CATEGORIES:Institucional
ATTACH;FMTTYPE=image/jpeg:https://www.fcf.unicamp.br/wp-content/uploads/2022/05/dia_quimico.jpg
END:VEVENT
BEGIN:VEVENT
DTSTART;TZID=America/Sao_Paulo:20220630T150000
DTEND;TZID=America/Sao_Paulo:20220630T170000
DTSTAMP:20260422T191300
CREATED:20220629T160318Z
LAST-MODIFIED:20220629T160318Z
UID:3324-1656601200-1656608400@www.fcf.unicamp.br
SUMMARY:Final do Desafio Unicamp 2022
DESCRIPTION:A equipe NanoSilver\, formada pelas estudantes de pós-graduação da Faculdade de Ciências Farmacêuticas Érica Mendes dos Santos\, Júlia Cedran Côco e Luiza Aparecida Luna Silvério\, do Laboratório de Farmacotécnica e Cuidado em Saúde — LaFateCS\, e Kátia de Pádua Silva\, do Laboratório de Farmacologia de Antimicrobianos e Microbiologia — LabFAM\, é uma das seis finalistas do Desafio Unicamp 2022\, organizado pela Agência de Inovação da Unicamp — Inova\, que chega à 12ª edição neste ano. \nAs discentes convidam toda a comunidade FCF para assistir às apresentações no dia 30 de junho\, quinta-feira\, às 15 horas\, por meio virtual. As inscrições podem ser feitas nesta página. \nNa ocasião\, o público participante poderá votar na equipe\, que concorre ao prêmio da categoria Voto Popular\, além das categorias Geral e Impacto Socioambiental.
URL:https://www.fcf.unicamp.br/evento/desafiounicamp2022/
LOCATION:São Paulo
CATEGORIES:Pós-Graduação
END:VEVENT
END:VCALENDAR