BEGIN:VCALENDAR
VERSION:2.0
PRODID:-//Faculdade de Ciências Farmacêuticas — FCF Unicamp - ECPv6.15.20//NONSGML v1.0//EN
CALSCALE:GREGORIAN
METHOD:PUBLISH
X-WR-CALNAME:Faculdade de Ciências Farmacêuticas — FCF Unicamp
X-ORIGINAL-URL:https://www.fcf.unicamp.br
X-WR-CALDESC:Eventos para Faculdade de Ciências Farmacêuticas — FCF Unicamp
REFRESH-INTERVAL;VALUE=DURATION:PT1H
X-Robots-Tag:noindex
X-PUBLISHED-TTL:PT1H
BEGIN:VTIMEZONE
TZID:America/Sao_Paulo
BEGIN:STANDARD
TZOFFSETFROM:-0300
TZOFFSETTO:-0300
TZNAME:-03
DTSTART:20250101T000000
END:STANDARD
END:VTIMEZONE
BEGIN:VEVENT
DTSTART;TZID=America/Sao_Paulo:20260330T100000
DTEND;TZID=America/Sao_Paulo:20260330T130000
DTSTAMP:20260425T083928
CREATED:20260317T192313Z
LAST-MODIFIED:20260317T192654Z
UID:20863-1774864800-1774875600@www.fcf.unicamp.br
SUMMARY:Exame de Qualificação — Ana Cláudia Beneton Galeriani
DESCRIPTION:Programa de Pós-Graduação em Ciências Farmacêuticas \nExame de Qualificação de Mestrado \nAna Cláudia Beneton Galeriani \nPlanejamento de novas moléculas com potencial efeito sobre marcadores da doença de Alzheimer\, usando a estratégia de combinação de fragmentos a partir de alcaloides e flavonoides ativos. \n\nAuditório FCF \nPresidente\nProf. Dr. Paulo César Pires Rosa — FCF / Unicamp \nMembros titulares\nProf. Dr. Rodrigo Ramos Catharino — FCF / Unicamp\nProfª Drª Catarina Raposo Dias Carneiro — FCF / Unicamp \nMembros suplentes\nProf. Dr. Marcelo Lancellotti — FCF / Unicamp\nProf. Dr. Marco Edilson Freire de Lima — UFRRJ
URL:https://www.fcf.unicamp.br/evento/eq_acbg/
LOCATION:Auditório da FCF\, Rua Candido Portinari\, 200\, Campinas\, São Paulo\, 13083-871
CATEGORIES:Eventos,Exames de Qualificação,Mestrado,Pós-Graduação
END:VEVENT
END:VCALENDAR