BEGIN:VCALENDAR
VERSION:2.0
PRODID:-//Faculdade de Ciências Farmacêuticas — FCF Unicamp - ECPv6.15.20//NONSGML v1.0//EN
CALSCALE:GREGORIAN
METHOD:PUBLISH
X-WR-CALNAME:Faculdade de Ciências Farmacêuticas — FCF Unicamp
X-ORIGINAL-URL:https://www.fcf.unicamp.br
X-WR-CALDESC:Eventos para Faculdade de Ciências Farmacêuticas — FCF Unicamp
REFRESH-INTERVAL;VALUE=DURATION:PT1H
X-Robots-Tag:noindex
X-PUBLISHED-TTL:PT1H
BEGIN:VTIMEZONE
TZID:America/Sao_Paulo
BEGIN:STANDARD
TZOFFSETFROM:-0300
TZOFFSETTO:-0300
TZNAME:-03
DTSTART:20250101T000000
END:STANDARD
END:VTIMEZONE
BEGIN:VEVENT
DTSTART;VALUE=DATE:20260320
DTEND;VALUE=DATE:20260321
DTSTAMP:20260425T212007
CREATED:20260306T135839Z
LAST-MODIFIED:20260306T135839Z
UID:20747-1773964800-1774051199@www.fcf.unicamp.br
SUMMARY:Dia Delas
DESCRIPTION:A Faculdade de Ciências Farmacêuticas da Unicamp realizará\, no dia 20 de março\, em sua sede\, a segunda edição do Dia Delas\, iniciativa dedicada à valorização\, ao reconhecimento e ao fortalecimento do protagonismo feminino no ambiente acadêmico e institucional. \nO evento integra as ações da Faculdade em celebração ao Dia Internacional da Mulher e tem como proposta promover um espaço de diálogo\, reflexão e bem-estar para a comunidade. \nA programação contará com palestras\, rodas de conversa e atividades voltadas ao bem-estar\, estimulando a troca de experiências e a reflexão sobre temas relacionados à presença e à atuação das mulheres na universidade e na sociedade. \nA iniciativa reafirma o compromisso da FCF com a construção de um ambiente acadêmico cada vez mais respeitoso\, inclusivo e acolhedor. \nAs atividades são abertas à comunidade e convidam todas as pessoas interessadas a participar. Inscreva-se
URL:https://www.fcf.unicamp.br/evento/dia-delas/
LOCATION:São Paulo
CATEGORIES:Eventos
END:VEVENT
BEGIN:VEVENT
DTSTART;TZID=America/Sao_Paulo:20260320T140000
DTEND;TZID=America/Sao_Paulo:20260320T170000
DTSTAMP:20260425T212007
CREATED:20260304T142353Z
LAST-MODIFIED:20260304T142353Z
UID:20709-1774015200-1774026000@www.fcf.unicamp.br
SUMMARY:Exame de Qualificação — Bruna Eduarda Silva
DESCRIPTION:Programa de Pós-Graduação em Ciências Farmacêuticas \nExame de Qualificação de Mestrado \nBruna Eduarda Silva \nAvaliação in vitro de enantiômeros de limoneno e de complexos de cobre II\, sozinhos e em combinação\, para tratamento de tumores de pele \n\nSala EB01 \nPresidente\nProfª Drª Catarina Raposo Dias Carneiro — FCF / Unicamp \nMembros titulares\nDrª Juliana Carron — FCM / Unicamp\nProf. Dr. Pedro Paulo Corbi — IQ / Unicamp \nMembros suplentes\nProfª Drª Karina Cogo Müller — FCF / Unicamp\nDrª Gisele Goulart da Silva — FCM / Unicamp
URL:https://www.fcf.unicamp.br/evento/eq_bes/
LOCATION:Sala EB01 (Engenharia Básica)\, Rua João Pandiá Calógeras 148\, Campinas\, Brasil
CATEGORIES:Eventos,Exames de Qualificação,Mestrado,Pós-Graduação
END:VEVENT
BEGIN:VEVENT
DTSTART;TZID=America/Sao_Paulo:20260320T190000
DTEND;TZID=America/Sao_Paulo:20260320T200000
DTSTAMP:20260425T212007
CREATED:20260318T174140Z
LAST-MODIFIED:20260318T174140Z
UID:20877-1774033200-1774036800@www.fcf.unicamp.br
SUMMARY:Palestra "Evaluación de la incertidumbre de medición de acuerdo a la ISO 17025:2017 “Requisitos generales para la competencia de los laboratorios de ensayo y calibración"
DESCRIPTION:O Laboratório de Insumos Farmacêuticos e Medicamentos — LIM\, da Faculdade de Ciências Farmacêuticas\, liderado pelo Prof. Paulo Rosa\, abre para a participação do público interessado o treinamento sobre os requisitos da norma ISO 17025:2017. \nPalestra: Evaluación de la incertidumbre de medición de acuerdo a la ISO 17025:2017 “Requisitos generales para la competencia de los laboratorios de ensayo y calibración” \nExpositor: Pedro M. Coloma Mercado\, químico farmacêutico\, subgerente de operações\, Laboratorios Elifarma S.A. (Peru) \n 
URL:https://www.fcf.unicamp.br/evento/palestra-iso-17025-2017/
LOCATION:Online
CATEGORIES:Pós-Graduação
END:VEVENT
END:VCALENDAR