BEGIN:VCALENDAR
VERSION:2.0
PRODID:-//Faculdade de Ciências Farmacêuticas — FCF Unicamp - ECPv6.15.20//NONSGML v1.0//EN
CALSCALE:GREGORIAN
METHOD:PUBLISH
X-WR-CALNAME:Faculdade de Ciências Farmacêuticas — FCF Unicamp
X-ORIGINAL-URL:https://www.fcf.unicamp.br
X-WR-CALDESC:Eventos para Faculdade de Ciências Farmacêuticas — FCF Unicamp
REFRESH-INTERVAL;VALUE=DURATION:PT1H
X-Robots-Tag:noindex
X-PUBLISHED-TTL:PT1H
BEGIN:VTIMEZONE
TZID:America/Sao_Paulo
BEGIN:STANDARD
TZOFFSETFROM:-0300
TZOFFSETTO:-0300
TZNAME:-03
DTSTART:20250101T000000
END:STANDARD
END:VTIMEZONE
BEGIN:VEVENT
DTSTART;TZID=America/Sao_Paulo:20260313T130000
DTEND;TZID=America/Sao_Paulo:20260313T160000
DTSTAMP:20260425T185007
CREATED:20260309T130148Z
LAST-MODIFIED:20260309T130243Z
UID:20761-1773406800-1773417600@www.fcf.unicamp.br
SUMMARY:Seminário Integrador do Programa de Pós-Graduação em Ciências Farmacêuticas
DESCRIPTION:Programação \n13:00 — Boas-vindas (Diretor da FCF)\n13:10 — Indicadores do Programa de Pós-Graduação e ação docente\n14:30 — Coffee break e interação entre docentes e discentes\n15:00 — Indicadores gerais do Programa de Pós-Graduação e ação discente\n16:00 — Encerramento \nDocumentos \n\nPlanejamento Estratégico do PPG Ciências Farmacêuticas\nPlanejamento Estratégico da FCF (2024-2028)\nPlanejamento Estratégico da Unicamp (2021-2025)\nPlanejamento Estratégico Institucional da Unicamp (2026-2030)\nAutoavaliação do PPG Ciências Farmacêuticas (2021-2024)\nFicha de Avaliação — Área de Farmácia da CAPES (2025-2028)\nDocumento de Área de Farmácia da CAPES (2025-2028)
URL:https://www.fcf.unicamp.br/evento/seminario-integrador-ppgcf/
LOCATION:Auditório MD02\, Rua João Pandiá Calógeras\, 100\, Campinas\, São Paulo\, Brazil
CATEGORIES:Pós-Graduação
END:VEVENT
END:VCALENDAR