BEGIN:VCALENDAR
VERSION:2.0
PRODID:-//Faculdade de Ciências Farmacêuticas — FCF Unicamp - ECPv6.15.20//NONSGML v1.0//EN
CALSCALE:GREGORIAN
METHOD:PUBLISH
X-WR-CALNAME:Faculdade de Ciências Farmacêuticas — FCF Unicamp
X-ORIGINAL-URL:https://www.fcf.unicamp.br
X-WR-CALDESC:Eventos para Faculdade de Ciências Farmacêuticas — FCF Unicamp
REFRESH-INTERVAL;VALUE=DURATION:PT1H
X-Robots-Tag:noindex
X-PUBLISHED-TTL:PT1H
BEGIN:VTIMEZONE
TZID:America/Sao_Paulo
BEGIN:STANDARD
TZOFFSETFROM:-0300
TZOFFSETTO:-0300
TZNAME:-03
DTSTART:20230101T000000
END:STANDARD
END:VTIMEZONE
BEGIN:VEVENT
DTSTART;TZID=America/Sao_Paulo:20241008T093000
DTEND;TZID=America/Sao_Paulo:20241008T123000
DTSTAMP:20260425T220830
CREATED:20240903T131448Z
LAST-MODIFIED:20241007T185849Z
UID:14894-1728379800-1728390600@www.fcf.unicamp.br
SUMMARY:Exame de Qualificação — Cristina Wöhlke Vendruscolo
DESCRIPTION:Programa de Pós-Graduação em Ciências Farmacêuticas \nExame de Qualificação de Doutorado \nCristina Wöhlke Vendruscolo \nMapeamento das alegações em produtos cosméticos de grau 2: entendendo o conhecimento dos dermatologistas e proposta de guia de orientação \nintegralmente a distância \nPresidente\nProf. Dr. José Luiz da Costa — FCF / Unicamp \nMembros titulares\nProf. Dr. Marco Alexandre Dias da Rocha — EPM / Unifesp\nProfª Drª Renata Ferreira Magalhães — FCM / Unicamp \nMembros suplentes\nProfª Drª Ljubica Tasic — IQ / Unicamp\nDrª Carolina Reato Marçon — FCMSCSP
URL:https://www.fcf.unicamp.br/evento/eq_cwv/
LOCATION:Online
CATEGORIES:Exames de Qualificação,Pós-Graduação
END:VEVENT
END:VCALENDAR