BEGIN:VCALENDAR
VERSION:2.0
PRODID:-//Faculdade de Ciências Farmacêuticas — FCF Unicamp - ECPv6.15.20//NONSGML v1.0//EN
CALSCALE:GREGORIAN
METHOD:PUBLISH
X-WR-CALNAME:Faculdade de Ciências Farmacêuticas — FCF Unicamp
X-ORIGINAL-URL:https://www.fcf.unicamp.br
X-WR-CALDESC:Eventos para Faculdade de Ciências Farmacêuticas — FCF Unicamp
REFRESH-INTERVAL;VALUE=DURATION:PT1H
X-Robots-Tag:noindex
X-PUBLISHED-TTL:PT1H
BEGIN:VTIMEZONE
TZID:America/Sao_Paulo
BEGIN:STANDARD
TZOFFSETFROM:-0300
TZOFFSETTO:-0300
TZNAME:-03
DTSTART:20230101T000000
END:STANDARD
END:VTIMEZONE
BEGIN:VEVENT
DTSTART;VALUE=DATE:20240826
DTEND;VALUE=DATE:20240831
DTSTAMP:20260425T090817
CREATED:20240819T123603Z
LAST-MODIFIED:20240819T123603Z
UID:14457-1724630400-1725062399@www.fcf.unicamp.br
SUMMARY:XIX Semana Acadêmica de Farmácia
DESCRIPTION:A Semana Acadêmica de Farmácia da Unicamp ocorre desde 2005 e vem crescendo e evoluindo com o passar dos anos\, estando em sua 19a edição neste ano. O evento é organizado por alunos e professores da Faculdade de Ciências Farmacêuticas (FCF)\, sendo voltado para os alunos da área\, com o objetivo de estimular o desenvolvimento profissional\, a partir da apresentação de diversas áreas de atuação do profissional farmacêutico por meio de palestras e workshops\, o desenvolvimento pessoal pelo debate de temas sociais e estímulo ao desenvolvimento do senso crítico\, e a aproximação do aluno com o mercado de trabalho através das visitas técnicas realizadas em diversas indústrias de grande prestígio. \nDesde 2022\, o evento vem sendo realizado de forma híbrida\, contando com eventos presenciais e online\, de forma a trazer convidados diversos e permitir a participação de congressistas de todo o país.  \nEstamos muito animados para proporcionar um evento rico e completo para todos os participantes\, contamos com a sua presença! 🙂 \nLINK DO EVENTO: www.even3.com.br/XIXSAFUnicamp
URL:https://www.fcf.unicamp.br/evento/xix-saf/
LOCATION:São Paulo
END:VEVENT
END:VCALENDAR