BEGIN:VCALENDAR
VERSION:2.0
PRODID:-//Faculdade de Ciências Farmacêuticas — FCF Unicamp - ECPv6.15.20//NONSGML v1.0//EN
CALSCALE:GREGORIAN
METHOD:PUBLISH
X-WR-CALNAME:Faculdade de Ciências Farmacêuticas — FCF Unicamp
X-ORIGINAL-URL:https://www.fcf.unicamp.br
X-WR-CALDESC:Eventos para Faculdade de Ciências Farmacêuticas — FCF Unicamp
REFRESH-INTERVAL;VALUE=DURATION:PT1H
X-Robots-Tag:noindex
X-PUBLISHED-TTL:PT1H
BEGIN:VTIMEZONE
TZID:America/Sao_Paulo
BEGIN:STANDARD
TZOFFSETFROM:-0300
TZOFFSETTO:-0300
TZNAME:-03
DTSTART:20230101T000000
END:STANDARD
END:VTIMEZONE
BEGIN:VEVENT
DTSTART;VALUE=DATE:20240603
DTEND;VALUE=DATE:20240608
DTSTAMP:20260425T134136
CREATED:20240511T223149Z
LAST-MODIFIED:20240511T224208Z
UID:12662-1717372800-1717804799@www.fcf.unicamp.br
SUMMARY:Inscrições: Processo Seletivo da Pós-Graduação — 2º semestre de 2024
DESCRIPTION:
URL:https://www.fcf.unicamp.br/evento/inscricoes-2s24/
LOCATION:Online
CATEGORIES:Pós-Graduação
END:VEVENT
END:VCALENDAR