BEGIN:VCALENDAR
VERSION:2.0
PRODID:-//Faculdade de Ciências Farmacêuticas — FCF Unicamp - ECPv6.15.20//NONSGML v1.0//EN
CALSCALE:GREGORIAN
METHOD:PUBLISH
X-WR-CALNAME:Faculdade de Ciências Farmacêuticas — FCF Unicamp
X-ORIGINAL-URL:https://www.fcf.unicamp.br
X-WR-CALDESC:Eventos para Faculdade de Ciências Farmacêuticas — FCF Unicamp
REFRESH-INTERVAL;VALUE=DURATION:PT1H
X-Robots-Tag:noindex
X-PUBLISHED-TTL:PT1H
BEGIN:VTIMEZONE
TZID:America/Sao_Paulo
BEGIN:STANDARD
TZOFFSETFROM:-0300
TZOFFSETTO:-0300
TZNAME:-03
DTSTART:20230101T000000
END:STANDARD
END:VTIMEZONE
BEGIN:VEVENT
DTSTART;TZID=America/Sao_Paulo:20240520T090000
DTEND;TZID=America/Sao_Paulo:20240521T170000
DTSTAMP:20260425T171514
CREATED:20240511T222044Z
LAST-MODIFIED:20240511T222122Z
UID:12656-1716195600-1716310800@www.fcf.unicamp.br
SUMMARY:Consulta à Comunidade para escolha do Diretor da Faculdade de Ciências Farmacêuticas da Unicamp – Gestão 2024-2028
DESCRIPTION:  \nAcesse aqui informações sobre acesso remoto (VPN)\n\nO Colégio Eleitoral é composto pelos docentes\, discentes e servidores técnico-administrativos (carreiras PAEPE e Pq) da Faculdade de Ciências Farmacêuticas ativos na data de publicação deste edital.\nNão votam os participantes do Programa de Professor Colaborador e de Pesquisador Colaborador (Deliberação CONSU-A-016/2020\, de 2/6/2020) e do Programa de Pesquisador de Pós-Doutorado (Deliberação CONSU-A-003/2018\, de 3/4/2018).\nO voto é facultativo a todos os servidores docentes ou técnico-administrativos\, ainda que em gozo de férias ou período de afastamento por interesse da administração\, afastados por interesse particular ou em licença\, e aos discentes regularmente matriculados nos cursos de graduação e de pós-graduação.\nO servidor técnico-administrativo que seja estudante de graduação ou de pós-graduação votará apenas na categoria técnico-administrativo.\nO voto será eletrônico\, pelo sistema e-Voto\, com acesso pessoal e intransferível à cédula eletrônica de votação por meio das credenciais institucionais\, que estará disponível a partir das 9 horas do dia 20 de maio de 2024 até às 17 horas do dia 21 de maio de 2024.\nA apuração será aberta ao público\, realizada com base nos relatórios gerados pelo sistema e-Voto\, no dia 21 de maio de 2024\, imediatamente após o encerramento da votação\, no Auditório da Faculdade de Ciências Farmacêuticas\, com transmissão pelo canal do YouTube da Faculdade de Ciências Farmacêuticas.\nO resultado da consulta será obtido mediante o voto ponderado do corpo docente\, do corpo discente e do corpo de servidores técnico-administrativos da Faculdade de Ciências Farmacêuticas da Unicamp\, fixando-se o peso de 3/5 para o voto da categoria docente\, 1/5 para o voto da categoria discente e 1/5 para o voto da categoria dos servidores técnico-administrativos. Por voto de uma categoria entende-se a relação entre o número de votos recebidos por cada candidato votado\, que seja elegível\, e o número total de eleitores qualificados para votar na respectiva categoria.
URL:https://www.fcf.unicamp.br/evento/consulta-diretor-2024-2028/
LOCATION:Online
CATEGORIES:Institucional
END:VEVENT
END:VCALENDAR