BEGIN:VCALENDAR
VERSION:2.0
PRODID:-//Faculdade de Ciências Farmacêuticas — FCF Unicamp - ECPv6.15.20//NONSGML v1.0//EN
CALSCALE:GREGORIAN
METHOD:PUBLISH
X-WR-CALNAME:Faculdade de Ciências Farmacêuticas — FCF Unicamp
X-ORIGINAL-URL:https://www.fcf.unicamp.br
X-WR-CALDESC:Eventos para Faculdade de Ciências Farmacêuticas — FCF Unicamp
REFRESH-INTERVAL;VALUE=DURATION:PT1H
X-Robots-Tag:noindex
X-PUBLISHED-TTL:PT1H
BEGIN:VTIMEZONE
TZID:America/Sao_Paulo
BEGIN:STANDARD
TZOFFSETFROM:-0300
TZOFFSETTO:-0300
TZNAME:-03
DTSTART:20230101T000000
END:STANDARD
END:VTIMEZONE
BEGIN:VEVENT
DTSTART;TZID=America/Sao_Paulo:20240401T080000
DTEND;TZID=America/Sao_Paulo:20240501T170000
DTSTAMP:20260425T215515
CREATED:20240422T115428Z
LAST-MODIFIED:20240422T115453Z
UID:12032-1711958400-1714582800@www.fcf.unicamp.br
SUMMARY:Inscrições para Processo Seletivo para Bolsa de Pós-Doutorado
DESCRIPTION:De acordo com a Resolução GR-033/2023\, estão abertas inscrições para o processo de avaliação e seleção de bolsistas para o Programa de Pesquisador de Pós-Doutorado da Unicamp\, para a Faculdade de Ciências Farmacêuticas. Serão selecionados 2 bolsistas em 2024. \n\n\n\nAs inscrições para o Edital 03/2023 estarão abertas de 1/4/2024 a 1/5/2024\, até 17 horas. \n\n\n\nAs informações completas podem ser acessadas no Edital abaixo: \n\n\n\n\nEdital FCF 03/2023 – PPPD – inscrições em 2024\n\n\nEdital de Retificação – Edital 01/2023\, Edital 02/2023\, Edital 03/2023\n\n\nDeliberação CP nº 01/2024 – Composição da Comissão Julgadora do Edital FCF 03/2023
URL:https://www.fcf.unicamp.br/evento/pppd2024/
LOCATION:São Paulo
CATEGORIES:Institucional
END:VEVENT
BEGIN:VEVENT
DTSTART;VALUE=DATE:20240412
DTEND;VALUE=DATE:20240501
DTSTAMP:20260425T215515
CREATED:20240407T012536Z
LAST-MODIFIED:20240424T121746Z
UID:11752-1712880000-1714521599@www.fcf.unicamp.br
SUMMARY:Inscrições para o curso "Nitrosaminas: química\, toxicidade\, aspectos regulatórios e impacto na indústria farmacêutica"
DESCRIPTION:De 12 a 30/4/2024 estarão abertas as inscrições para o curso de difusão FCF-0032 — Nitrosaminas: química\, toxicidade\, aspectos regulatórios e impacto na indústria farmacêutica\, oferecido pela Profª Drª Wanda Pereira Almeida. \nEmenta: Nitrosaminas: Propriedades físicas e químicas. Mecanismo carcinogênico. Classificação de risco. Aspectos regulatórios. Indústria Farmacêutica e nitrosaminas. \nPúblico-alvo: Graduados em Farmácia\, Química ou Engenharia Química\, Profissionais da Indústria Farmacêutica \nValor: R$ 983\,56 em até duas parcelas no cartão de crédito ou boleto.
URL:https://www.fcf.unicamp.br/evento/nitrosaminas/
LOCATION:Online
CATEGORIES:Cursos,Extensão
END:VEVENT
END:VCALENDAR