BEGIN:VCALENDAR
VERSION:2.0
PRODID:-//Faculdade de Ciências Farmacêuticas — FCF Unicamp - ECPv6.15.20//NONSGML v1.0//EN
CALSCALE:GREGORIAN
METHOD:PUBLISH
X-WR-CALNAME:Faculdade de Ciências Farmacêuticas — FCF Unicamp
X-ORIGINAL-URL:https://www.fcf.unicamp.br
X-WR-CALDESC:Eventos para Faculdade de Ciências Farmacêuticas — FCF Unicamp
REFRESH-INTERVAL;VALUE=DURATION:PT1H
X-Robots-Tag:noindex
X-PUBLISHED-TTL:PT1H
BEGIN:VTIMEZONE
TZID:America/Sao_Paulo
BEGIN:STANDARD
TZOFFSETFROM:-0300
TZOFFSETTO:-0300
TZNAME:-03
DTSTART:20230101T000000
END:STANDARD
END:VTIMEZONE
BEGIN:VEVENT
DTSTART;TZID=America/Sao_Paulo:20240325T140000
DTEND;TZID=America/Sao_Paulo:20240325T150000
DTSTAMP:20260425T224438
CREATED:20240318T123519Z
LAST-MODIFIED:20240318T175301Z
UID:11324-1711375200-1711378800@www.fcf.unicamp.br
SUMMARY:Palestra: "Sequenciamento de DNA e suas aplicações"\, com Stela Virgilio (ByMyCell)
DESCRIPTION:Inscreva-se aqui para receber o link para participação
URL:https://www.fcf.unicamp.br/evento/palestra-sequenciamento-dna/
LOCATION:Online
CATEGORIES:Cursos,Pós-Graduação
END:VEVENT
END:VCALENDAR