BEGIN:VCALENDAR
VERSION:2.0
PRODID:-//Faculdade de Ciências Farmacêuticas — FCF Unicamp - ECPv6.15.20//NONSGML v1.0//EN
CALSCALE:GREGORIAN
METHOD:PUBLISH
X-WR-CALNAME:Faculdade de Ciências Farmacêuticas — FCF Unicamp
X-ORIGINAL-URL:https://www.fcf.unicamp.br
X-WR-CALDESC:Eventos para Faculdade de Ciências Farmacêuticas — FCF Unicamp
REFRESH-INTERVAL;VALUE=DURATION:PT1H
X-Robots-Tag:noindex
X-PUBLISHED-TTL:PT1H
BEGIN:VTIMEZONE
TZID:America/Sao_Paulo
BEGIN:STANDARD
TZOFFSETFROM:-0300
TZOFFSETTO:-0300
TZNAME:-03
DTSTART:20220101T000000
END:STANDARD
END:VTIMEZONE
BEGIN:VEVENT
DTSTART;TZID=America/Sao_Paulo:20231218T140000
DTEND;TZID=America/Sao_Paulo:20231218T170000
DTSTAMP:20260425T200456
CREATED:20231130T180024Z
LAST-MODIFIED:20231130T180024Z
UID:10725-1702908000-1702918800@www.fcf.unicamp.br
SUMMARY:Defesa de Dissertação de Mestrado — Aline de Fátima Alves Silvestre
DESCRIPTION:Defesa de Dissertação de Mestrado \nAline de Fátima Alves Silvestre \nEstudo do perfil químico por UHPLC-MS de extrato metanólico de Coleus neochilus (Lamiaceae) \nAuditório da FCF \nPresidente\nProfª Drª Alexandra Christine Helena Frankland Sawaya — FCF / Unicamp \nMembros titulares\nProfª Drª Andréia de Melo Porcari — USF\nProf. Dr. Paulo Cesar Pires Rosa — FCF / Unicamp \nMembros suplentes \nProf. Dr. Leandro Wang Hantao — IQ / Unicamp\nProfª Drª Michelle Pedroza Jorge — UniFAJ\nDrª Marta Cristina Teixeira Duarte — CPQBA / Unicamp \nResumo: Plantas medicinais tem sido uma valiosa fonte de produtos farmacêuticos. O gênero Coleus compreende cerca de 300 espécies de ervas e arbustos nativos das regiões tropicais sendo 85% deles utilizados para fins medicinais como tratamento de distúrbios digestivos\, afecções de pele\, infecções\, febre\, dor\, distúrbios vasculares e no sistema nervoso central. Espécies de Coleus frequentemente produzem metabólitos secundários como diterpenoides\, triterpenoides e flavonoides com capacidade biológica comprovada. Cerca de 60 espécies do gênero Coleus são utilizadas em todo o mundo para fins medicinais ou ornamentais\, juntamente com uma rica diversidade de usos etnobotânicos. Coleus neochilus é uma das espécies conhecidas como falso boldo cultivado no Brasil\, popularmente conhecido como boldo gambá. A revisão bibliográfica realizada deixou claro que há muito que pesquisar\, pois apresentou poucos trabalhos sobre extratos metanólicos e determinação dos compostos não voláteis nesta espécie. Por isso\, o objetivo do trabalho foi analisar a composição química de extratos metanólicos de folhas de C. neochilus coletadas ao longo de um ano por UHPLC-MS em dois modos de ionização eletrospray\, utilizando as técnicas de metabolômica untargeted e quimiometria para comparar os resultados. Os indivíduos cultivados em estufa apresentaram diferença na intensidade dos compostos em relação aos cultivados em campo. O período de coleta\, manhã e tarde\, não apresentou forte influência na composição das amostras. Já a sazonalidade teve efeitos nos quatro indivíduos\, as amostras coletadas de julho a setembro apresentaram diferença significativa na intensidade dos compostos bioativos. Observa-se que os metabólitos desta espécie foram mais fortemente impactados pela temperatura\, principalmente nos meses mais frios do ano.
URL:https://www.fcf.unicamp.br/evento/defesa_afas/
LOCATION:Auditório da FCF\, Rua Candido Portinari\, 200\, Campinas\, São Paulo\, 13083-871
CATEGORIES:Defesas,Mestrado,Pós-Graduação
END:VEVENT
END:VCALENDAR