BEGIN:VCALENDAR
VERSION:2.0
PRODID:-//Faculdade de Ciências Farmacêuticas — FCF Unicamp - ECPv6.15.20//NONSGML v1.0//EN
CALSCALE:GREGORIAN
METHOD:PUBLISH
X-WR-CALNAME:Faculdade de Ciências Farmacêuticas — FCF Unicamp
X-ORIGINAL-URL:https://www.fcf.unicamp.br
X-WR-CALDESC:Eventos para Faculdade de Ciências Farmacêuticas — FCF Unicamp
REFRESH-INTERVAL;VALUE=DURATION:PT1H
X-Robots-Tag:noindex
X-PUBLISHED-TTL:PT1H
BEGIN:VTIMEZONE
TZID:America/Sao_Paulo
BEGIN:STANDARD
TZOFFSETFROM:-0300
TZOFFSETTO:-0300
TZNAME:-03
DTSTART:20220101T000000
END:STANDARD
END:VTIMEZONE
BEGIN:VEVENT
DTSTART;TZID=America/Sao_Paulo:20231020T140000
DTEND;TZID=America/Sao_Paulo:20231020T170000
DTSTAMP:20260425T131818
CREATED:20230830T134837Z
LAST-MODIFIED:20230919T144729Z
UID:9745-1697810400-1697821200@www.fcf.unicamp.br
SUMMARY:Exame de Qualificação — Dayanna Isabel Araque Gelves
DESCRIPTION:Exame de Qualificação de Doutorado \nDayanna Isabel Araque Gelves \nDiversidade metabólica e busca de substâncias bioativas com aplicações tecnológicas em plantas da subfamília Gomphrenoidea\, Amaranthaceae (plantas in natura e in vitro) e em microrganismos endofíticos simbiontes \n\nAuditório da FCF \nPresidente \nDrª Ana Lucia Tasca Gois Ruiz — FCF / Unicamp \nMembros titulares \nProfª Drª Angelica Zaninelli Schreiber — FCM / Unicamp\nDrª Julieta Andrea Silva de Almeida — IAC \nMembros suplentes  \nProfª Drª Elaine Minatel — IB / Unicamp\nProfª Drª Marilí Villa Nova Rodrigues — CPQBA / Unicamp\nProfª Drª Fernanda Janku Cabral — IB / Unicamp
URL:https://www.fcf.unicamp.br/evento/eq_diag/
LOCATION:Auditório da FCF\, Rua Candido Portinari\, 200\, Campinas\, São Paulo\, 13083-871
CATEGORIES:Exames de Qualificação,Pós-Graduação
END:VEVENT
END:VCALENDAR