BEGIN:VCALENDAR
VERSION:2.0
PRODID:-//Faculdade de Ciências Farmacêuticas — FCF Unicamp - ECPv6.15.20//NONSGML v1.0//EN
CALSCALE:GREGORIAN
METHOD:PUBLISH
X-WR-CALNAME:Faculdade de Ciências Farmacêuticas — FCF Unicamp
X-ORIGINAL-URL:https://www.fcf.unicamp.br
X-WR-CALDESC:Eventos para Faculdade de Ciências Farmacêuticas — FCF Unicamp
REFRESH-INTERVAL;VALUE=DURATION:PT1H
X-Robots-Tag:noindex
X-PUBLISHED-TTL:PT1H
BEGIN:VTIMEZONE
TZID:America/Sao_Paulo
BEGIN:STANDARD
TZOFFSETFROM:-0300
TZOFFSETTO:-0300
TZNAME:-03
DTSTART:20220101T000000
END:STANDARD
END:VTIMEZONE
BEGIN:VEVENT
DTSTART;VALUE=DATE:20230522
DTEND;VALUE=DATE:20230713
DTSTAMP:20260425T135356
CREATED:20230522T143405Z
LAST-MODIFIED:20230706T121345Z
UID:8656-1684713600-1689206399@www.fcf.unicamp.br
SUMMARY:Inscrições para o curso Gliomas: da biologia molecular às abordagens terapêuticas
DESCRIPTION:  \n\n\n\n\n\n\n\n\n\n\nVer essa foto no Instagram\n\n\n\n\n\n\n\n\n\n\n\n\n\n\n\n\n\n\n\n\n\n\n  \nUma publicação compartilhada por FCF Unicamp (@fcfunicamp)
URL:https://www.fcf.unicamp.br/evento/gliomas-inscricoes/
LOCATION:São Paulo
CATEGORIES:Cursos,Extensão
END:VEVENT
BEGIN:VEVENT
DTSTART;VALUE=DATE:20230529
DTEND;VALUE=DATE:20230602
DTSTAMP:20260425T135356
CREATED:20230519T190036Z
LAST-MODIFIED:20230523T160439Z
UID:8607-1685318400-1685663999@www.fcf.unicamp.br
SUMMARY:X Jornada de ICs
DESCRIPTION:Leia mais: Nova edição da Jornada de Iniciação Científica discutirá a pesquisa na graduação\nAs inscrições estão abertas e são gratuitas
URL:https://www.fcf.unicamp.br/evento/x-jornada-de-ics/
LOCATION:São Paulo
CATEGORIES:Graduação
END:VEVENT
BEGIN:VEVENT
DTSTART;VALUE=DATE:20230529
DTEND;VALUE=DATE:20230603
DTSTAMP:20260425T135356
CREATED:20230519T133637Z
LAST-MODIFIED:20230519T190056Z
UID:8584-1685318400-1685750399@www.fcf.unicamp.br
SUMMARY:Inscrições para o Processo Seletivo para Mestrado e Doutorado em Ciências Farmacêuticas
DESCRIPTION:
URL:https://www.fcf.unicamp.br/evento/inscricoes-pos-2s23/
LOCATION:São Paulo
CATEGORIES:Pós-Graduação
END:VEVENT
BEGIN:VEVENT
DTSTART;TZID=America/Sao_Paulo:20230601T090000
DTEND;TZID=America/Sao_Paulo:20230601T170000
DTSTAMP:20260425T135356
CREATED:20230531T141555Z
LAST-MODIFIED:20230531T145758Z
UID:8788-1685610000-1685638800@www.fcf.unicamp.br
SUMMARY:Concurso de Provas e Títulos para obtenção do Título de Livre Docente
DESCRIPTION:Transmissão ao vivo \nProvas do Concurso de Provas e Títulos para obtenção do Título de Livre Docente\, na área de Ciências Farmacêuticas\, na disciplina FR607 — Química Farmacêutica Aplicada I e FR707 — Química Farmacêutica Aplicada II\, da Faculdade de Ciências Farmacêuticas\, da Universidade Estadual de Campinas. \nO Concurso de que trata este Edital terá início às 9h00 do dia 01 de junho de 2023\, de acordo com a Deliberação CONSU-A-060/2020\, de 24/11/2020\, com o seguinte calendário fixado para realização das provas: \nCandidato: Prof. Dr. Daniel Fábio Kawano \nDia: 01/06/2023 \n\n9:00 – Abertura do Concurso Público\, apresentação da Comissão Julgadora e do candidato inscrito\n9:30 – Prova Didática\n10:45 – Prova de Arguição\n13:00 – Intervalo para almoço\n14:00 – Prova de Títulos (somente a banca)\n16:30 – Apuração e divulgação dos resultados\n\nA Comissão Julgadora estará constituída pelos Professores Doutores: \nTitulares: Clarice Weis Arns\, Célia Regina Garlipp\, Jean Leandro dos Santos\, Fernando Batista da Costa e José Guilherme de Souza Chauí Mattos Berlinck \nSuplentes: Roberto Parise Filho e Gislaine Ricci Leonardi \n﻿
URL:https://www.fcf.unicamp.br/evento/concurso-livre-docente-fr607-fr707/
LOCATION:São Paulo
CATEGORIES:Concursos,Recursos Humanos
END:VEVENT
END:VCALENDAR