BEGIN:VCALENDAR
VERSION:2.0
PRODID:-//Faculdade de Ciências Farmacêuticas — FCF Unicamp - ECPv6.15.20//NONSGML v1.0//EN
CALSCALE:GREGORIAN
METHOD:PUBLISH
X-WR-CALNAME:Faculdade de Ciências Farmacêuticas — FCF Unicamp
X-ORIGINAL-URL:https://www.fcf.unicamp.br
X-WR-CALDESC:Eventos para Faculdade de Ciências Farmacêuticas — FCF Unicamp
REFRESH-INTERVAL;VALUE=DURATION:PT1H
X-Robots-Tag:noindex
X-PUBLISHED-TTL:PT1H
BEGIN:VTIMEZONE
TZID:America/Sao_Paulo
BEGIN:STANDARD
TZOFFSETFROM:-0300
TZOFFSETTO:-0300
TZNAME:-03
DTSTART:20210101T000000
END:STANDARD
END:VTIMEZONE
BEGIN:VEVENT
DTSTART;VALUE=DATE:20221028
DTEND;VALUE=DATE:20221029
DTSTAMP:20260425T111446
CREATED:20220602T112659Z
LAST-MODIFIED:20220602T112659Z
UID:2925-1666915200-1667001599@www.fcf.unicamp.br
SUMMARY:Dia do Funcionário Público Estadual
DESCRIPTION:
URL:https://www.fcf.unicamp.br/evento/dia-do-funcionario-publico-estadual/
LOCATION:São Paulo
CATEGORIES:Institucional
END:VEVENT
END:VCALENDAR